BEGIN:VCALENDAR
VERSION:2.0
PRODID:-//WCTOWF//Events//EN
CALSCALE:GREGORIAN
METHOD:PUBLISH
BEGIN:VEVENT
UID:66b39941-e18b-41ae-a75b-0495bc752d05@wctowf.events
DTSTAMP:20260420T131246Z
DTSTART:20260915T220000Z
DTEND:20260918T220000Z
SUMMARY:World Championships
DESCRIPTION:Update will follow soon
LOCATION:Hartenbos
END:VEVENT
END:VCALENDAR