BEGIN:VCALENDAR
VERSION:2.0
PRODID:-//WCTOWF//Events//EN
CALSCALE:GREGORIAN
METHOD:PUBLISH
BEGIN:VEVENT
UID:7074741c-71b7-4ba0-a752-73cd091c7c98@wctowf.events
DTSTAMP:20260420T090711Z
DTSTART:20260424T220000Z
DTEND:20260424T220000Z
SUMMARY:Senior - WP League 3
DESCRIPTION:Update will follow soon
LOCATION:Bellville
END:VEVENT
END:VCALENDAR