BEGIN:VCALENDAR
VERSION:2.0
PRODID:-//WCTOWF//Events//EN
CALSCALE:GREGORIAN
METHOD:PUBLISH
BEGIN:VEVENT
UID:9aea56b5-b3ec-4a44-b192-5f240afd217a@wctowf.events
DTSTAMP:20260420T091643Z
DTSTART:20260703T220000Z
DTEND:20260703T220000Z
SUMMARY:Senior - Western Cape Championship
DESCRIPTION:Update will follow soon
LOCATION:Overberg
END:VEVENT
END:VCALENDAR