BEGIN:VCALENDAR
VERSION:2.0
PRODID:-//WCTOWF//Events//EN
CALSCALE:GREGORIAN
METHOD:PUBLISH
BEGIN:VEVENT
UID:b9ec8551-a2f6-476e-9a17-36f017d4c1ae@wctowf.events
DTSTAMP:20260420T090448Z
DTSTART:20260410T220000Z
DTEND:20260410T220000Z
SUMMARY:Senior - WP League 1
DESCRIPTION:Gates open at 6:30 AM\nOpening: 9:30 am \n\nR20 per vehicle\nR10 per person
LOCATION:Brakenjan Toutrek klub (Westcliff)
END:VEVENT
END:VCALENDAR